BEGIN:VCALENDAR
VERSION:2.0
CREATED:20260410T195735Z
PRODID:-//Travel + Leisure Co./Equisolve Calendar v1.0//EN
METHOD:PUBLISH
BEGIN:VEVENT
UID:af3bc1e9105fa9bac3479bc68d2d76eb
DTSTAMP:20260423T120150Z
DTSTART:20260520T163000Z
DTEND:20260520T173000Z
SUMMARY:2026 Annual Meeting of Shareholders
DESCRIPTION:2026 Annual Meeting of Shareholders\nDate: May 20\, 2026 12:30 pm EDT\nWebcast: http://www.virtualshareholdermeeting.com/TNL2026
END:VEVENT
END:VCALENDAR
